BEGIN:VCALENDAR
VERSION:2.0
PRODID:-//Kijabe Pathology Laboratory - ECPv6.13.2.1//NONSGML v1.0//EN
CALSCALE:GREGORIAN
METHOD:PUBLISH
X-WR-CALNAME:Kijabe Pathology Laboratory
X-ORIGINAL-URL:https://www.kijabe-path.org
X-WR-CALDESC:Events for Kijabe Pathology Laboratory
REFRESH-INTERVAL;VALUE=DURATION:PT1H
X-Robots-Tag:noindex
X-PUBLISHED-TTL:PT1H
BEGIN:VTIMEZONE
TZID:America/Chicago
BEGIN:DAYLIGHT
TZOFFSETFROM:-0600
TZOFFSETTO:-0500
TZNAME:CDT
DTSTART:20180311T080000
END:DAYLIGHT
BEGIN:STANDARD
TZOFFSETFROM:-0500
TZOFFSETTO:-0600
TZNAME:CST
DTSTART:20181104T070000
END:STANDARD
BEGIN:DAYLIGHT
TZOFFSETFROM:-0600
TZOFFSETTO:-0500
TZNAME:CDT
DTSTART:20190310T080000
END:DAYLIGHT
BEGIN:STANDARD
TZOFFSETFROM:-0500
TZOFFSETTO:-0600
TZNAME:CST
DTSTART:20191103T070000
END:STANDARD
END:VTIMEZONE
BEGIN:VTIMEZONE
TZID:UTC
BEGIN:STANDARD
TZOFFSETFROM:+0000
TZOFFSETTO:+0000
TZNAME:UTC
DTSTART:20180101T000000
END:STANDARD
END:VTIMEZONE
BEGIN:VEVENT
DTSTART;VALUE=DATE:20190218
DTEND;VALUE=DATE:20190317
DTSTAMP:20260423T192347
CREATED:20180306T203354Z
LAST-MODIFIED:20180411T155359Z
UID:364-1550448000-1552780799@www.kijabe-path.org
SUMMARY:Dr. Jim Niewenhuis
DESCRIPTION:Volunteer pathologist from March 1 – March 31\, 2019.  Jim will be accompanied by his wife.
URL:https://www.kijabe-path.org/event/dr-jim-niewenhuis/
CATEGORIES:Volunteer Pathologist
END:VEVENT
BEGIN:VEVENT
DTSTART;VALUE=DATE:20190101
DTEND;VALUE=DATE:20190215
DTSTAMP:20260423T192347
CREATED:20180306T203150Z
LAST-MODIFIED:20180411T155435Z
UID:361-1546300800-1550188799@www.kijabe-path.org
SUMMARY:Dr. Rochelle Garcia
DESCRIPTION:Volunteer pathologist from January 1 – February 14\, 2019.  Dr. Garcia will be accompanied by a resident.
URL:https://www.kijabe-path.org/event/dr-rochelle-garcia-2/
CATEGORIES:Volunteer Pathologist
ATTACH;FMTTYPE=image/jpeg:https://www.kijabe-path.org/wp-content/uploads/2017/12/2015_garcia_rochelle__profile.jpg
END:VEVENT
BEGIN:VEVENT
DTSTART;VALUE=DATE:20181001
DTEND;VALUE=DATE:20181101
DTSTAMP:20260423T192347
CREATED:20171223T100826Z
LAST-MODIFIED:20171223T100826Z
UID:37-1538352000-1541030399@www.kijabe-path.org
SUMMARY:Dr. Alan Northcutt
DESCRIPTION:
URL:https://www.kijabe-path.org/event/dr-alan-northcutt/
CATEGORIES:Volunteer Pathologist
END:VEVENT
BEGIN:VEVENT
DTSTART;VALUE=DATE:20180901
DTEND;VALUE=DATE:20181001
DTSTAMP:20260423T192347
CREATED:20180306T203823Z
LAST-MODIFIED:20180306T203823Z
UID:367-1535760000-1538351999@www.kijabe-path.org
SUMMARY:Drs. Morgan & Kim Wilson
DESCRIPTION:Volunteer pathologists from September 1 – September 30\, 2018.
URL:https://www.kijabe-path.org/event/drs-morgan-kim-wilson/
CATEGORIES:Volunteer Pathologist
END:VEVENT
BEGIN:VEVENT
DTSTART;VALUE=DATE:20180625
DTEND;VALUE=DATE:20180728
DTSTAMP:20260423T192347
CREATED:20171215T034721Z
LAST-MODIFIED:20171223T101527Z
UID:4-1529884800-1532735999@www.kijabe-path.org
SUMMARY:Philip Ferguson\, M.D.
DESCRIPTION:Dr. Philip and Mrs. Amy Ferguson will serve from June 25th through July 27th\, 2018.  Luke (6) and Eleanor (9) will be there supporting their parents.
URL:https://www.kijabe-path.org/event/philip-ferguson-start-at-kijabe/
LOCATION:Kijabe Hospital\, Kijabe\, Kenya
CATEGORIES:Volunteer Pathologist
ATTACH;FMTTYPE=image/jpeg:https://www.kijabe-path.org/wp-content/uploads/2017/12/PHILIP_FERGUSON_02-e1513400732833.jpg
END:VEVENT
BEGIN:VEVENT
DTSTART;VALUE=DATE:20180602
DTEND;VALUE=DATE:20180701
DTSTAMP:20260423T192347
CREATED:20171223T100557Z
LAST-MODIFIED:20180306T203626Z
UID:35-1527897600-1530403199@www.kijabe-path.org
SUMMARY:Dr. Darrell Davidson
DESCRIPTION:
URL:https://www.kijabe-path.org/event/tentative-darrell-davidson-or-april-1-30/
CATEGORIES:Volunteer Pathologist
END:VEVENT
BEGIN:VEVENT
DTSTART;VALUE=DATE:20180507
DTEND;VALUE=DATE:20180602
DTSTAMP:20260423T192347
CREATED:20171223T100510Z
LAST-MODIFIED:20171223T100510Z
UID:33-1525651200-1527897599@www.kijabe-path.org
SUMMARY:Dr. Amelia Sybenga\, Fellow
DESCRIPTION:
URL:https://www.kijabe-path.org/event/dr-amelia-sybenga-fellow/
CATEGORIES:Volunteer Pathologist
END:VEVENT
BEGIN:VEVENT
DTSTART;VALUE=DATE:20180507
DTEND;VALUE=DATE:20180602
DTSTAMP:20260423T192347
CREATED:20171223T100416Z
LAST-MODIFIED:20171223T100416Z
UID:31-1525651200-1527897599@www.kijabe-path.org
SUMMARY:Dr. Randy Juengel
DESCRIPTION:
URL:https://www.kijabe-path.org/event/dr-randy-juengel/
CATEGORIES:Volunteer Pathologist
END:VEVENT
BEGIN:VEVENT
DTSTART;VALUE=DATE:20180212
DTEND;VALUE=DATE:20180317
DTSTAMP:20260423T192347
CREATED:20171223T100109Z
LAST-MODIFIED:20171223T100109Z
UID:25-1518393600-1521244799@www.kijabe-path.org
SUMMARY:Dr. Kathleen Patterson
DESCRIPTION:
URL:https://www.kijabe-path.org/event/dr-kathleen-patterson/
CATEGORIES:Volunteer Pathologist
END:VEVENT
BEGIN:VEVENT
DTSTART;VALUE=DATE:20180127
DTEND;VALUE=DATE:20180218
DTSTAMP:20260423T192347
CREATED:20171223T095954Z
LAST-MODIFIED:20171223T095954Z
UID:23-1517011200-1518911999@www.kijabe-path.org
SUMMARY:Dr. Jose Mantilla (Fellow)
DESCRIPTION:
URL:https://www.kijabe-path.org/event/dr-jose-mantilla-fellow/
CATEGORIES:Volunteer Pathologist
END:VEVENT
BEGIN:VEVENT
DTSTART;VALUE=DATE:20180101
DTEND;VALUE=DATE:20180127
DTSTAMP:20260423T192347
CREATED:20171223T095852Z
LAST-MODIFIED:20171223T095852Z
UID:21-1514764800-1517011199@www.kijabe-path.org
SUMMARY:Dr. Tom Long (Resident)
DESCRIPTION:
URL:https://www.kijabe-path.org/event/dr-tom-long-resident/
CATEGORIES:Volunteer Pathologist
END:VEVENT
BEGIN:VEVENT
DTSTART;VALUE=DATE:20180101
DTEND;VALUE=DATE:20180213
DTSTAMP:20260423T192347
CREATED:20171223T095726Z
LAST-MODIFIED:20171223T101217Z
UID:19-1514764800-1518479999@www.kijabe-path.org
SUMMARY:Dr. Rochelle Garcia
DESCRIPTION:
URL:https://www.kijabe-path.org/event/dr-rochelle-garcia/
CATEGORIES:Volunteer Pathologist
ATTACH;FMTTYPE=image/jpeg:https://www.kijabe-path.org/wp-content/uploads/2017/12/2015_garcia_rochelle__profile.jpg
END:VEVENT
END:VCALENDAR